BEGIN:VCALENDAR
VERSION:2.0
PRODID:-//Taulebih - ECPv6.6.2//NONSGML v1.0//EN
CALSCALE:GREGORIAN
METHOD:PUBLISH
X-WR-CALNAME:Taulebih
X-ORIGINAL-URL:https://taulebih.com
X-WR-CALDESC:Events for Taulebih
REFRESH-INTERVAL;VALUE=DURATION:PT1H
X-Robots-Tag:noindex
X-PUBLISHED-TTL:PT1H
BEGIN:VTIMEZONE
TZID:America/Denver
BEGIN:DAYLIGHT
TZOFFSETFROM:-0700
TZOFFSETTO:-0600
TZNAME:MDT
DTSTART:20240310T090000
END:DAYLIGHT
BEGIN:STANDARD
TZOFFSETFROM:-0600
TZOFFSETTO:-0700
TZNAME:MST
DTSTART:20241103T080000
END:STANDARD
END:VTIMEZONE
BEGIN:VEVENT
DTSTART;TZID=America/Denver:20241220T200000
DTEND;TZID=America/Denver:20241220T203000
DTSTAMP:20260420T185021
CREATED:20250110T124420Z
LAST-MODIFIED:20250110T124420Z
UID:11566-1734724800-1734726600@taulebih.com
SUMMARY:Taulebih Wrapped 2024
DESCRIPTION:
URL:https://taulebih.com/event/taulebih-wrapped-2024/
LOCATION:Online Zoom Meeting
CATEGORIES:Internal Knowlunteers
END:VEVENT
END:VCALENDAR